BEGIN:VCALENDAR
VERSION:2.0
PRODID:-//ChamberMaster//Event Calendar 2.0//EN
METHOD:PUBLISH
X-PUBLISHED-TTL:P3D
REFRESH-INTERVAL:P3D
CALSCALE:GREGORIAN
BEGIN:VEVENT
DTSTART:20220908T220000Z
DTEND:20220909T010000Z
X-MICROSOFT-CDO-ALLDAYEVENT:FALSE
SUMMARY:2022 GBA Salute to Business
DESCRIPTION:The 19th Annual Salute to Business Gala\, recognizes the business and community contributions and leadership of award recipients. \n\n\n\n2022 Spirit of the Carolina's Award Winner: Ron Sytz\, Beverly Knits\n\nThe Spirit of the Carolinas award is designed to honor a business leader or manufacturer in Gaston County as a way to honor the individual behind the success of the company who has demonstrated one or more of the following attributes on a local\, state\, or national level: Commitment and success within the free enterprise system\; Leadership within their particular industry\; Citizenship within their community\n\n.\n\n2022 Spirit of the Economy Award: Jim Morasso\, Jam Restaurant Group\n\nThe Spirit of the Economy award is presented to a company or individual contributing to the overall economic development efforts in Gaston County and North Carolina.
X-ALT-DESC;FMTTYPE=text/html:<span style="font-size:14px\;"><span style="font-family:arial\;"><span style="color: rgb(51\, 51\, 51)\; background-color: rgb(255\, 255\, 255)\;">The 19th Annual Salute to Business Gala\, recognizes&nbsp\;the business and community contributions and leadership of award recipients.&nbsp\;</span><br style="color: rgb(51\, 51\, 51)\; font-family: sans-serif\, Arial\, Verdana\, &quot\;Trebuchet MS&quot\;\; font-size: 13px\;" />\n<br />\n<strong>2022 Spirit of the Carolina&#39\;s Award Winner: Ron Sytz\, Beverly Knits</strong><br style="color: rgb(51\, 51\, 51)\; font-family: sans-serif\, Arial\, Verdana\, &quot\;Trebuchet MS&quot\;\; font-size: 13px\;" />\n<span style="color: rgb(51\, 51\, 51)\; background-color: rgb(255\, 255\, 255)\;">The Spirit of the Carolinas award is designed to honor a business leader or manufacturer in Gaston County as a way to honor the individual behind the success of the company who has demonstrated one or more of the following attributes on a local\, state\, or national level: Commitment and success within the free enterprise system\; Leadership within their particular industry\; Citizenship within their community</span><br style="color: rgb(51\, 51\, 51)\; font-family: sans-serif\, Arial\, Verdana\, &quot\;Trebuchet MS&quot\;\; font-size: 13px\;" />\n<span style="color: rgb(51\, 51\, 51)\; background-color: rgb(255\, 255\, 255)\;">.</span><br style="color: rgb(51\, 51\, 51)\; font-family: sans-serif\, Arial\, Verdana\, &quot\;Trebuchet MS&quot\;\; font-size: 13px\;" />\n<span style="color: rgb(51\, 51\, 51)\; background-color: rgb(255\, 255\, 255)\;"><strong>2022 Spirit of the Economy Award: Jim Morasso\, Jam Restaurant Group</strong><br />\nThe Spirit of the Economy award is presented to a company or individual contributing to the overall economic development efforts in Gaston County and North Carolina.</span></span></span>
LOCATION:3700 Country Club Dr\, Gastonia\, NC 28056
UID:e.1958.7178
SEQUENCE:3
DTSTAMP:20260423T140100Z
URL:https://members.gastonbusiness.com/events/details/2022-gba-salute-to-business-7178
END:VEVENT

END:VCALENDAR
