BEGIN:VCALENDAR
VERSION:2.0
PRODID:-//ChamberMaster//Event Calendar 2.0//EN
METHOD:PUBLISH
X-PUBLISHED-TTL:P3D
REFRESH-INTERVAL:P3D
CALSCALE:GREGORIAN
BEGIN:VEVENT
DTSTART:20220922T200000Z
DTEND:20220922T210000Z
X-MICROSOFT-CDO-ALLDAYEVENT:FALSE
SUMMARY:Gas House Forever Ribbon Cutting
DESCRIPTION:Join us for a Ribbon Cutting celebrating Gas House Forever!
X-ALT-DESC;FMTTYPE=text/html:Join us for a Ribbon Cutting celebrating Gas House Forever!
LOCATION:901 S. Chester Street Gastonia\, NC 28052
UID:e.1958.7256
SEQUENCE:3
DTSTAMP:20260423T121028Z
URL:https://members.gastonbusiness.com/events/details/gas-house-forever-ribbon-cutting-7256
END:VEVENT

END:VCALENDAR
