BEGIN:VCALENDAR
VERSION:2.0
PRODID:-//ChamberMaster//Event Calendar 2.0//EN
METHOD:PUBLISH
X-PUBLISHED-TTL:P3D
REFRESH-INTERVAL:P3D
CALSCALE:GREGORIAN
BEGIN:VEVENT
DTSTART:20221027T113000Z
DTEND:20221027T133000Z
X-MICROSOFT-CDO-ALLDAYEVENT:FALSE
SUMMARY:GBA Commit: Business Advocacy
DESCRIPTION:Hear about the business advocacy in the West\, and how it affects your business!\n\nJoin the GBA in welcoming Representative Kelly Hastings\, County Commissioners Bob Hovis & Allen Fraley\, and more!
X-ALT-DESC;FMTTYPE=text/html:Hear about the business advocacy in the West\, and how it affects your business!<br />\nJoin the GBA in welcoming Representative Kelly Hastings\, County Commissioners Bob Hovis &amp\; Allen Fraley\, and more!
LOCATION:Gastonia Conference Center
UID:e.1958.7172
SEQUENCE:3
DTSTAMP:20260419T141917Z
URL:https://members.gastonbusiness.com/events/details/gba-commit-business-advocacy-7172
END:VEVENT

END:VCALENDAR
