BEGIN:VCALENDAR
VERSION:2.0
PRODID:-//ChamberMaster//Event Calendar 2.0//EN
METHOD:PUBLISH
X-PUBLISHED-TTL:P3D
REFRESH-INTERVAL:P3D
CALSCALE:GREGORIAN
BEGIN:VEVENT
DTSTART:20231212T210000Z
DTEND:20231212T230000Z
X-MICROSOFT-CDO-ALLDAYEVENT:FALSE
SUMMARY:Grand Opening of Miami Fusion
DESCRIPTION:Join us as we celebrate our newest Investors Grand Opening\, with our honorary Ribbon Cutting at 4:30pm
X-ALT-DESC;FMTTYPE=text/html:<span class="OYPEnA text-decoration-none text-strikethrough-none" style="color: rgb(0\, 0\, 0)\;">Join us as we celebrate our newest Investors Grand Opening\, with our honorary Ribbon Cutting at 4:30pm</span>
LOCATION:Miami Fusion 125 N Main Street Lowell\, NC 28098
UID:e.1958.7431
SEQUENCE:3
DTSTAMP:20260424T124911Z
URL:https://members.gastonbusiness.com/events/details/grand-opening-of-miami-fusion-7431
END:VEVENT

END:VCALENDAR
