BEGIN:VCALENDAR
VERSION:2.0
PRODID:-//ChamberMaster//Event Calendar 2.0//EN
METHOD:PUBLISH
X-PUBLISHED-TTL:P3D
REFRESH-INTERVAL:P3D
CALSCALE:GREGORIAN
BEGIN:VEVENT
DTSTART:20260514T180000Z
DTEND:20260514T190000Z
X-MICROSOFT-CDO-ALLDAYEVENT:FALSE
SUMMARY:Grand Re-Opening and Ribbon Cutting-Burger King Stanley
DESCRIPTION:You're invited!  \n\nJoin us as we celebrate the Grand Re-Opening and Ribbon Cutting of Burger King Stanley!    \n\nCome enjoy refreshments\, connect with the community\, and be part of this exciting moment.\n\nWe look forward to seeing you there!
X-ALT-DESC;FMTTYPE=text/html:<p class="isSelectedEnd">&#127881\; You&rsquo\;re invited! &#127881\;</p>\n\n<p class="isSelectedEnd">Join us as we celebrate the Grand Re-Opening and Ribbon Cutting of Burger King&mdash\;Stanley! &#127828\;&#9986\;&#65039\;</p>\n\n<p class="isSelectedEnd">Come enjoy refreshments\, connect with the community\, and be part of this exciting moment.</p>\n\n<p>We look forward to seeing you there!</p>\n
LOCATION:
UID:e.1958.7968
SEQUENCE:3
DTSTAMP:20260424T194938Z
URL:https://members.gastonbusiness.com/events/details/grand-re-opening-and-ribbon-cutting-burger-king-stanley-7968
END:VEVENT

END:VCALENDAR
