BEGIN:VCALENDAR
VERSION:2.0
PRODID:-//ChamberMaster//Event Calendar 2.0//EN
METHOD:PUBLISH
X-PUBLISHED-TTL:P3D
REFRESH-INTERVAL:P3D
CALSCALE:GREGORIAN
BEGIN:VEVENT
DTSTART:20220914T120000Z
DTEND:20220914T210000Z
X-MICROSOFT-CDO-ALLDAYEVENT:FALSE
SUMMARY:Leadership Gaston Class of 2022 - Fall
DESCRIPTION:Formed in 1979 by the Gaston Regional Chamber of Commerce\, Leadership Gaston is a program to develop the leaders of tomorrow. Since its inception\, the program's intent has been developing and enhancing volunteer community leadership.\n\nLeadership Gaston brings together people of diverse backgrounds and experiences who have demonstrated leadership potential and offers them a unique opportunity to increase their knowledge of Gaston County while building a community network of contacts.\n\n \n\nClass of 2022 - Fall Schedule (subject to change)\n\n\n	\n		\n			\n			 \n			Day 1   Leadership & Orientation (September 14)\n\n			Day 2   History & Government  (September 21)\n\n			Day 3   Non-Profit & Healthcare (October 5)\n\n			Day 4   Business & Manufacturing  (October 19)\n\n			Day 5   Education & Public Safety (November 2)\n\n			Day 6   Travel/Tourism & Arts/Entertainment (November 16)\n\n			Day 7   Class Project & Graduation (November 30)
X-ALT-DESC;FMTTYPE=text/html:<p style="box-sizing: border-box\; margin: 0px 0px 10px\; color: rgb(76\, 76\, 76)\; font-family: Georgia\, Times\, serif\; font-size: 18px\;">Formed in 1979 by the Gaston Regional Chamber of Commerce\, Leadership Gaston is a program to develop the leaders of tomorrow. Since its inception\, the program&rsquo\;s intent has been developing and enhancing volunteer community leadership.</p>\n\n<p style="box-sizing: border-box\; margin: 0px 0px 10px\; color: rgb(76\, 76\, 76)\; font-family: Georgia\, Times\, serif\; font-size: 18px\;">Leadership Gaston brings together people of diverse backgrounds and experiences who have demonstrated leadership potential and offers them a unique opportunity to increase their knowledge of Gaston County while building a community network of contacts.</p>\n\n<p style="box-sizing: border-box\; margin: 0px 0px 10px\; color: rgb(76\, 76\, 76)\; font-family: Georgia\, Times\, serif\; font-size: 18px\;">&nbsp\;</p>\n\n<p style="box-sizing: border-box\; margin: 0px 0px 10px\; color: rgb(76\, 76\, 76)\; font-family: Georgia\, Times\, serif\; font-size: 18px\;"><span style="box-sizing: border-box\; font-weight: 700\;">Class of 2022 - Fall Schedule (subject to change)</span></p>\n\n<table style="border-collapse: collapse\; border-spacing: 0px\; color: rgb(76\, 76\, 76)\; font-family: Georgia\, Times\, serif\; font-size: 18px\; height: 163px\;" width="742">\n	<tbody style="box-sizing: border-box\;">\n		<tr style="box-sizing: border-box\;">\n			<td style="box-sizing: border-box\; padding: 0px\;">\n			<p style="box-sizing: border-box\; margin: 0px 0px 10px\;">&nbsp\;</p>\n			<span style="font-size:12.0pt\;">Day 1 &ndash\; Leadership &amp\; Orientation (September 14)</span><br />\n			<span style="font-size:12pt\;">Day 2 &ndash\; History &amp\; Government </span>&nbsp\;<span style="font-size:12pt\;">(September 21)</span><br />\n			<span style="font-size:12pt\;">Day 3 &ndash\; Non-Profit &amp\; Healthcare (October 5)</span><br />\n			<span style="font-size:12pt\;">Day 4 &ndash\; Business &amp\; Manufacturing&nbsp\;</span>&nbsp\;<span style="font-size:12pt\;">(October 19)</span><br />\n			<span style="font-size:12pt\;">Day 5 &ndash\; Education &amp\; Public Safety (November 2)</span><br />\n			<span style="font-size:12pt\;">Day 6 &ndash\; Travel/Tourism &amp\; Arts/Entertainment (November 16)</span><br />\n			<span style="font-size:12pt\;">Day 7 &ndash\; Class Project &amp\; Graduation (November 30)</span>\n\n			<p style="box-sizing: border-box\; margin: 0px 0px 10px\;">&nbsp\;</p>\n			</td>\n			<td style="box-sizing: border-box\; padding: 0px\;">&nbsp\;</td>\n			<td style="box-sizing: border-box\; padding: 0px\;">&nbsp\;</td>\n		</tr>\n	</tbody>\n</table>\n
LOCATION:Various locations throughout the county
UID:e.1958.7240
SEQUENCE:3
DTSTAMP:20260423T120905Z
URL:https://members.gastonbusiness.com/events/details/leadership-gaston-class-of-2022-fall-7240
END:VEVENT

END:VCALENDAR
