BEGIN:VCALENDAR
VERSION:2.0
PRODID:-//ChamberMaster//Event Calendar 2.0//EN
METHOD:PUBLISH
X-PUBLISHED-TTL:P3D
REFRESH-INTERVAL:P3D
CALSCALE:GREGORIAN
BEGIN:VEVENT
DTSTART:20220930T213000Z
DTEND:20221001T010000Z
X-MICROSOFT-CDO-ALLDAYEVENT:FALSE
SUMMARY:Off the Streets Program\, Inc 20th Anniversary Gala & Silent Auction
DESCRIPTION:
X-ALT-DESC;FMTTYPE=text/html:
LOCATION:Gaston Conference Center 145 Dr. Martin Luther King Jr. Way Gastonia\, NC 28052
UID:e.1958.7245
SEQUENCE:3
DTSTAMP:20260423T135631Z
URL:https://members.gastonbusiness.com/events/details/off-the-streets-program-inc-20th-anniversary-gala-silent-auction-7245
END:VEVENT

END:VCALENDAR
